BEGIN:VCALENDAR
VERSION:2.0
PRODID:-//Clean Water Testing - ECPv6.6.4.2//NONSGML v1.0//EN
CALSCALE:GREGORIAN
METHOD:PUBLISH
X-ORIGINAL-URL:https://www.cleanwatertesting.com
X-WR-CALDESC:Events for Clean Water Testing
REFRESH-INTERVAL;VALUE=DURATION:PT1H
X-Robots-Tag:noindex
X-PUBLISHED-TTL:PT1H
BEGIN:VTIMEZONE
TZID:America/Chicago
BEGIN:DAYLIGHT
TZOFFSETFROM:-0600
TZOFFSETTO:-0500
TZNAME:CDT
DTSTART:20250309T080000
END:DAYLIGHT
BEGIN:STANDARD
TZOFFSETFROM:-0500
TZOFFSETTO:-0600
TZNAME:CST
DTSTART:20251102T070000
END:STANDARD
END:VTIMEZONE
BEGIN:VEVENT
DTSTART;VALUE=DATE:20251223
DTEND;VALUE=DATE:20251224
DTSTAMP:20260420T061113
CREATED:20251202T172117Z
LAST-MODIFIED:20251202T172637Z
UID:1784-1766448000-1766534399@www.cleanwatertesting.com
SUMMARY:Samples must be dropped off by 12PM central time
DESCRIPTION:
URL:https://www.cleanwatertesting.com/water-testing-lab-schedule/samples-must-be-dropped-off-by-12pm-central-time/
END:VEVENT
END:VCALENDAR